BEGIN:VCALENDAR
VERSION:2.0
PRODID:-//www.newantiochshannon.com//NONSGML kigkonsult.se iCalcreator 2.39
 .1//
CALSCALE:GREGORIAN
METHOD:PUBLISH
UID:580e58b1-bc98-4459-84bd-16b4010b79be
X-WR-CALNAME:www.newantiochshannon.com
X-WR-CALDESC:www.newantiochshannon.com
X-WR-TIMEZONE:America/Los_Angeles
X-LIC-LOCATION:America/Los_Angeles
BEGIN:VEVENT
UID:f5e8c700-99ed-4efa-9bc3-e5ddb29ff06a
DTSTAMP:20260422T091522Z
CLASS:PUBLIC
DTSTART;TZID=America/Los_Angeles:20260422T183000
DTEND;TZID=America/Los_Angeles:20260422T191500
SUMMARY:Adult Bible Study
TRANSP:OPAQUE
BEGIN:VALARM
ACTION:DISPLAY
DESCRIPTION:Adult Bible Study
TRIGGER:-PT15M
END:VALARM
END:VEVENT
END:VCALENDAR
